BEGIN:VCALENDAR
VERSION:2.0
PRODID:-//79.170.40.241//NONSGML kigkonsult.se iCalcreator 2.20//
CALSCALE:GREGORIAN
METHOD:PUBLISH
X-FROM-URL:http://aberdeen.edu.np
X-WR-TIMEZONE:Asia/Kathmandu
BEGIN:VTIMEZONE
TZID:Asia/Kathmandu
X-LIC-LOCATION:Asia/Kathmandu
BEGIN:STANDARD
DTSTART:19860101T000000
TZOFFSETFROM:+0530
TZOFFSETTO:+0545
TZNAME:+0545
END:STANDARD
END:VTIMEZONE
BEGIN:VEVENT
UID:ai1ec-72@aberdeen.edu.np
DTSTAMP:20180831T200102Z
CATEGORIES:
CONTACT:
DESCRIPTION:Notice BoardMembership Application Form for Aberdeen IT Club\nR
 egistration for Worshop on “Linux Essentials”\nRegistration for I Aberdeen
  Web Dev Competition\nAdmission Open for 2016-2017 session.\nII Sem(2014) 
 University Board Result\nII Sem(2015) University Board Exam Routine\nPosts
 \n				News		\n					\n				Admission Open for 2016-2017 session.\n						\n					\n				IT Quiz 2073\n						\n					\n				Tea
 cher’s Day Celebration\n						\n				\n				\n\n	Upcoming Events\n\n\n\n\n\n\n			\n			There are n
 o upcoming events.\n		\n	 \n			\n							\n					View Calendar
DTSTART;TZID=Asia/Kathmandu:20160912T120000
DTEND;TZID=Asia/Kathmandu:20160928T121500
SEQUENCE:0
SUMMARY:II Sem University Board Start
URL:http://aberdeen.edu.np/event/ii-sem-university-board-exams/
X-COST-TYPE:free
X-ALT-DESC;FMTTYPE=text/html:<!DOCTYPE HTML PUBLIC '-//W3C//DTD HTML 3.2//E
 N'>\\n<HTML>\\n<HEAD>\\n<TITLE></TITLE>\\n</HEAD>\\n<BODY><div id='pl-10'>
 <div class='panel-grid' id='pg-10-0' ><div class='panel-grid-cell' id='pgc
 -10-0-0' ><div class='so-panel widget widget_nav_menu panel-first-child pa
 nel-last-child' id='panel-10-0-0-0' data-index='0'><h3 class='widget-title
 '>Notice Board</h3><div class='menu-notice-board-container'><ul id='menu-n
 otice-board' class='menu'><li id='menu-item-147' class='menu-item menu-ite
 m-type-custom menu-item-object-custom menu-item-147'><a href='https://docs
 .google.com/forms/d/e/1FAIpQLSflG9OdzSeenqkPvRLoLnZua3pZEvLkMn9Z0ZOh0kWAAZ
 2xDw/viewform'>Membership Application Form for Aberdeen IT Club</a></li>\n
 <li id='menu-item-145' class='menu-item menu-item-type-custom menu-item-ob
 ject-custom menu-item-145'><a href='https://docs.google.com/forms/d/e/1FAI
 pQLSe4IFzRrhUFPfjDH2enPKGmkMnZaPgyB6CzqB19KpTQ3DVHKw/viewform?usp=fb_send_
 fb'>Registration for Worshop on “Linux Essentials”</a></li>\n<li id='menu-
 item-143' class='menu-item menu-item-type-custom menu-item-object-custom m
 enu-item-143'><a href='http://registrations.aberdeen.edu.np/home/sites/abe
 rdeen.edu.np/public_html/'>Registration for I Aberdeen Web Dev Competition
 </a></li>\n<li id='menu-item-97' class='menu-item menu-item-type-post_type
  menu-item-object-post menu-item-97'><a href='http://aberdeen.edu.np/admis
 sion-open-for-2016-2017-session/'>Admission Open for 2016-2017 session.</a
 ></li>\n<li id='menu-item-57' class='menu-item menu-item-type-custom menu-
 item-object-custom menu-item-57'><a href='http://tuiost.edu.np/pdf/csit2.p
 df'>II Sem(2014) University Board Result</a></li>\n<li id='menu-item-60' c
 lass='menu-item menu-item-type-custom menu-item-object-custom menu-item-60
 '><a href='http://aberdeen.edu.np/wp-content/uploads/2016/08/13895193_1002
 432373204013_8331003567817395337_n.jpg'>II Sem(2015) University Board Exam
  Routine</a></li>\n<li id='menu-item-128' class='menu-item menu-item-type-
 post_type menu-item-object-page menu-item-128'><a href='http://aberdeen.ed
 u.np/posts/'>Posts</a></li>\n</ul></div></div></div><div class='panel-grid
 -cell' id='pgc-10-0-1' >		<div class='so-panel widget widget_recent-posts wi
 dget_recent_entries panel-first-child panel-last-child' id='panel-10-0-1-0
 ' data-index='1'>		<h3 class='widget-title'>News</h3>		<ul>\n					<li>\n				<a href='ht
 tp://aberdeen.edu.np/admission-open-for-2016-2017-session/'>Admission Open
  for 2016-2017 session.</a>\n						</li>\n					<li>\n				<a href='http://aberdeen.edu.np/
 it-quiz-2073/'>IT Quiz 2073</a>\n						</li>\n					<li>\n				<a href='http://aberdeen.edu
 .np/teachers-day-celebration/'>Teacher’s Day Celebration</a>\n						</li>\n				</ul>
 \n		</div>		</div><div class='panel-grid-cell' id='pgc-10-0-2' ><div class='so
 -panel widget widget_ai1ec_agenda_widget panel-first-child panel-last-chil
 d' id='panel-10-0-2-0' data-index='2'>\n\n	<h3 class='widget-title'>Upcomin
 g Events</h3>\n\n<style>\n<!--\n\n-->\n</style>\n<div class='timely ai1ec-
 agenda-widget-view ai1ec-clearfix'>\n\n			<p class='ai1ec-no-results'>\n			There
  are no upcoming events.\n		</p>\n	 \n			<div class='ai1ec-subscribe-buttons-wid
 get'>\n							<a class='ai1ec-btn ai1ec-btn-default ai1ec-btn-xs ai1ec-pull-right
 \n					ai1ec-calendar-link'\n					href='http://aberdeen.edu.np/calendar/'>\n					View Cal
 endar\n					<i class='ai1ec-fa ai1ec-fa-arrow-right'></i>\n				</a>\n			\n					</div>\n	 \n<
 /div>\n\n\n\n</div></div></div></div></BODY></HTML>
END:VEVENT
BEGIN:VEVENT
UID:ai1ec-73@aberdeen.edu.np
DTSTAMP:20180831T200102Z
CATEGORIES:
CONTACT:
DESCRIPTION:Notice BoardMembership Application Form for Aberdeen IT Club\nR
 egistration for Worshop on “Linux Essentials”\nRegistration for I Aberdeen
  Web Dev Competition\nAdmission Open for 2016-2017 session.\nII Sem(2014) 
 University Board Result\nII Sem(2015) University Board Exam Routine\nPosts
 \n				News		\n					\n				Admission Open for 2016-2017 session.\n						\n					\n				IT Quiz 2073\n						\n					\n				Tea
 cher’s Day Celebration\n						\n				\n				\n\n	Upcoming Events\n\n\n\n\n\n\n			\n			There are n
 o upcoming events.\n		\n	 \n			\n							\n					View Calendar
DTSTART;TZID=Asia/Kathmandu:20161001T055700
DTEND;TZID=Asia/Kathmandu:20161106T065700
SEQUENCE:0
SUMMARY:Dashain Vacation
URL:http://aberdeen.edu.np/event/dashain-vacation/
X-COST-TYPE:free
X-ALT-DESC;FMTTYPE=text/html:<!DOCTYPE HTML PUBLIC '-//W3C//DTD HTML 3.2//E
 N'>\\n<HTML>\\n<HEAD>\\n<TITLE></TITLE>\\n</HEAD>\\n<BODY><div id='pl-10'>
 <div class='panel-grid' id='pg-10-0' ><div class='panel-grid-cell' id='pgc
 -10-0-0' ><div class='so-panel widget widget_nav_menu panel-first-child pa
 nel-last-child' id='panel-10-0-0-0' data-index='0'><h3 class='widget-title
 '>Notice Board</h3><div class='menu-notice-board-container'><ul id='menu-n
 otice-board-1' class='menu'><li class='menu-item menu-item-type-custom men
 u-item-object-custom menu-item-147'><a href='https://docs.google.com/forms
 /d/e/1FAIpQLSflG9OdzSeenqkPvRLoLnZua3pZEvLkMn9Z0ZOh0kWAAZ2xDw/viewform'>Me
 mbership Application Form for Aberdeen IT Club</a></li>\n<li class='menu-i
 tem menu-item-type-custom menu-item-object-custom menu-item-145'><a href='
 https://docs.google.com/forms/d/e/1FAIpQLSe4IFzRrhUFPfjDH2enPKGmkMnZaPgyB6
 CzqB19KpTQ3DVHKw/viewform?usp=fb_send_fb'>Registration for Worshop on “Lin
 ux Essentials”</a></li>\n<li class='menu-item menu-item-type-custom menu-i
 tem-object-custom menu-item-143'><a href='http://registrations.aberdeen.ed
 u.np/home/sites/aberdeen.edu.np/public_html/'>Registration for I Aberdeen 
 Web Dev Competition</a></li>\n<li class='menu-item menu-item-type-post_typ
 e menu-item-object-post menu-item-97'><a href='http://aberdeen.edu.np/admi
 ssion-open-for-2016-2017-session/'>Admission Open for 2016-2017 session.</
 a></li>\n<li class='menu-item menu-item-type-custom menu-item-object-custo
 m menu-item-57'><a href='http://tuiost.edu.np/pdf/csit2.pdf'>II Sem(2014) 
 University Board Result</a></li>\n<li class='menu-item menu-item-type-cust
 om menu-item-object-custom menu-item-60'><a href='http://aberdeen.edu.np/w
 p-content/uploads/2016/08/13895193_1002432373204013_8331003567817395337_n.
 jpg'>II Sem(2015) University Board Exam Routine</a></li>\n<li class='menu-
 item menu-item-type-post_type menu-item-object-page menu-item-128'><a href
 ='http://aberdeen.edu.np/posts/'>Posts</a></li>\n</ul></div></div></div><d
 iv class='panel-grid-cell' id='pgc-10-0-1' >		<div class='so-panel widget wi
 dget_recent-posts widget_recent_entries panel-first-child panel-last-child
 ' id='panel-10-0-1-0' data-index='1'>		<h3 class='widget-title'>News</h3>		<ul
 >\n					<li>\n				<a href='http://aberdeen.edu.np/admission-open-for-2016-2017-sess
 ion/'>Admission Open for 2016-2017 session.</a>\n						</li>\n					<li>\n				<a href='htt
 p://aberdeen.edu.np/it-quiz-2073/'>IT Quiz 2073</a>\n						</li>\n					<li>\n				<a href=
 'http://aberdeen.edu.np/teachers-day-celebration/'>Teacher’s Day Celebrati
 on</a>\n						</li>\n				</ul>\n		</div>		</div><div class='panel-grid-cell' id='pgc-10-
 0-2' ><div class='so-panel widget widget_ai1ec_agenda_widget panel-first-c
 hild panel-last-child' id='panel-10-0-2-0' data-index='2'>\n\n	<h3 class='w
 idget-title'>Upcoming Events</h3>\n\n<style>\n<!--\n\n-->\n</style>\n<div 
 class='timely ai1ec-agenda-widget-view ai1ec-clearfix'>\n\n			<p class='ai1ec
 -no-results'>\n			There are no upcoming events.\n		</p>\n	 \n			<div class='ai1ec-s
 ubscribe-buttons-widget'>\n							<a class='ai1ec-btn ai1ec-btn-default ai1ec-btn
 -xs ai1ec-pull-right\n					ai1ec-calendar-link'\n					href='http://aberdeen.edu.np/c
 alendar/'>\n					View Calendar\n					<i class='ai1ec-fa ai1ec-fa-arrow-right'></i>\n
 				</a>\n			\n					</div>\n	 \n</div>\n\n\n\n</div></div></div></div></BODY></HTML>
END:VEVENT
END:VCALENDAR
